BEGIN:VCALENDAR
VERSION:2.0
PRODID:-//Bibleway Christian Academy - ECPv6.6.4.2//NONSGML v1.0//EN
CALSCALE:GREGORIAN
METHOD:PUBLISH
X-ORIGINAL-URL:https://biblewayacademy.org
X-WR-CALDESC:Events for Bibleway Christian Academy
REFRESH-INTERVAL;VALUE=DURATION:PT1H
X-Robots-Tag:noindex
X-PUBLISHED-TTL:PT1H
BEGIN:VTIMEZONE
TZID:America/Vancouver
BEGIN:DAYLIGHT
TZOFFSETFROM:-0800
TZOFFSETTO:-0700
TZNAME:PDT
DTSTART:20260308T100000
END:DAYLIGHT
BEGIN:STANDARD
TZOFFSETFROM:-0700
TZOFFSETTO:-0800
TZNAME:PST
DTSTART:20261101T090000
END:STANDARD
END:VTIMEZONE
BEGIN:VEVENT
DTSTART;VALUE=DATE:20260123
DTEND;VALUE=DATE:20260124
DTSTAMP:20260422T035831
CREATED:20251031T181706Z
LAST-MODIFIED:20251031T181706Z
UID:11911-1769126400-1769212799@biblewayacademy.org
SUMMARY:Family Fun Night
DESCRIPTION:
URL:https://biblewayacademy.org/calendars/family-fun-night/
LOCATION:BCA\, 18657 60 Ave\, Surrey\, British Columbia\, V3S 7P4\, Canada
CATEGORIES:Special Functions
ORGANIZER;CN="BCA PAC":MAILTO:pac-at-biblewayacademy-dot-org
END:VEVENT
END:VCALENDAR