BEGIN:VCALENDAR
VERSION:2.0
PRODID:-//Bibleway Christian Academy - ECPv6.6.4.2//NONSGML v1.0//EN
CALSCALE:GREGORIAN
METHOD:PUBLISH
X-ORIGINAL-URL:https://biblewayacademy.org
X-WR-CALDESC:Events for Bibleway Christian Academy
REFRESH-INTERVAL;VALUE=DURATION:PT1H
X-Robots-Tag:noindex
X-PUBLISHED-TTL:PT1H
BEGIN:VTIMEZONE
TZID:America/Vancouver
BEGIN:DAYLIGHT
TZOFFSETFROM:-0800
TZOFFSETTO:-0700
TZNAME:PDT
DTSTART:20260308T100000
END:DAYLIGHT
BEGIN:STANDARD
TZOFFSETFROM:-0700
TZOFFSETTO:-0800
TZNAME:PST
DTSTART:20261101T090000
END:STANDARD
END:VTIMEZONE
BEGIN:VEVENT
DTSTART;VALUE=DATE:20260504
DTEND;VALUE=DATE:20260509
DTSTAMP:20260422T065112
CREATED:20251031T190304Z
LAST-MODIFIED:20251031T190304Z
UID:11931-1777852800-1778284799@biblewayacademy.org
SUMMARY:Standardized Testing Week
DESCRIPTION:
URL:https://biblewayacademy.org/calendars/standardized-testing-week-8/
LOCATION:BCA\, 18657 60 Ave\, Surrey\, British Columbia\, V3S 7P4\, Canada
CATEGORIES:Important Dates
END:VEVENT
END:VCALENDAR