BEGIN:VCALENDAR
VERSION:2.0
PRODID:-//Bibleway Christian Academy - ECPv6.6.4.2//NONSGML v1.0//EN
CALSCALE:GREGORIAN
METHOD:PUBLISH
X-ORIGINAL-URL:https://biblewayacademy.org
X-WR-CALDESC:Events for Bibleway Christian Academy
REFRESH-INTERVAL;VALUE=DURATION:PT1H
X-Robots-Tag:noindex
X-PUBLISHED-TTL:PT1H
BEGIN:VTIMEZONE
TZID:America/Vancouver
BEGIN:DAYLIGHT
TZOFFSETFROM:-0800
TZOFFSETTO:-0700
TZNAME:PDT
DTSTART:20260308T100000
END:DAYLIGHT
BEGIN:STANDARD
TZOFFSETFROM:-0700
TZOFFSETTO:-0800
TZNAME:PST
DTSTART:20261101T090000
END:STANDARD
END:VTIMEZONE
BEGIN:VEVENT
DTSTART;VALUE=DATE:20260420
DTEND;VALUE=DATE:20260425
DTSTAMP:20260422T064701
CREATED:20251031T190046Z
LAST-MODIFIED:20251031T190054Z
UID:11927-1776643200-1777075199@biblewayacademy.org
SUMMARY:Numeracy & Literacy Assessments
DESCRIPTION:
URL:https://biblewayacademy.org/calendars/numeracy-literacy-assessments/
CATEGORIES:Important Dates
END:VEVENT
BEGIN:VEVENT
DTSTART;VALUE=DATE:20260501
DTEND;VALUE=DATE:20260502
DTSTAMP:20260422T064701
CREATED:20251031T190219Z
LAST-MODIFIED:20251031T190219Z
UID:11928-1777593600-1777679999@biblewayacademy.org
SUMMARY:Full School Assembly
DESCRIPTION:
URL:https://biblewayacademy.org/calendars/full-school-assembly-19/
CATEGORIES:Important Dates
END:VEVENT
BEGIN:VEVENT
DTSTART;VALUE=DATE:20260504
DTEND;VALUE=DATE:20260509
DTSTAMP:20260422T064701
CREATED:20251031T190304Z
LAST-MODIFIED:20251031T190304Z
UID:11931-1777852800-1778284799@biblewayacademy.org
SUMMARY:Standardized Testing Week
DESCRIPTION:
URL:https://biblewayacademy.org/calendars/standardized-testing-week-8/
LOCATION:BCA\, 18657 60 Ave\, Surrey\, British Columbia\, V3S 7P4\, Canada
CATEGORIES:Important Dates
END:VEVENT
BEGIN:VEVENT
DTSTART;VALUE=DATE:20260515
DTEND;VALUE=DATE:20260516
DTSTAMP:20260422T064701
CREATED:20251031T190439Z
LAST-MODIFIED:20251031T190439Z
UID:11933-1778803200-1778889599@biblewayacademy.org
SUMMARY:Sports Day
DESCRIPTION:
URL:https://biblewayacademy.org/calendars/sports-day-6/
LOCATION:Clayton Park\, 18513 70 Ave\,  Surrey\, \, BC \, V4N 6B6\, Canada
CATEGORIES:Important Dates,Special Functions
END:VEVENT
BEGIN:VEVENT
DTSTART;VALUE=DATE:20260522
DTEND;VALUE=DATE:20260523
DTSTAMP:20260422T064701
CREATED:20251031T190553Z
LAST-MODIFIED:20251031T190553Z
UID:11935-1779408000-1779494399@biblewayacademy.org
SUMMARY:Spring Concert
DESCRIPTION:
URL:https://biblewayacademy.org/calendars/spring-concert-7/
LOCATION:BCA\, 18657 60 Ave\, Surrey\, British Columbia\, V3S 7P4\, Canada
CATEGORIES:Important Dates,Special Functions
END:VEVENT
BEGIN:VEVENT
DTSTART;VALUE=DATE:20260526
DTEND;VALUE=DATE:20260603
DTSTAMP:20260422T064701
CREATED:20251031T190738Z
LAST-MODIFIED:20251031T190831Z
UID:11937-1779753600-1780444799@biblewayacademy.org
SUMMARY:Exam Preparation
DESCRIPTION:
URL:https://biblewayacademy.org/calendars/exam-preparation/
CATEGORIES:Important Dates
END:VEVENT
BEGIN:VEVENT
DTSTART;VALUE=DATE:20260608
DTEND;VALUE=DATE:20260609
DTSTAMP:20260422T064701
CREATED:20251031T191526Z
LAST-MODIFIED:20251031T191526Z
UID:11941-1780876800-1780963199@biblewayacademy.org
SUMMARY:Report Card Admin
DESCRIPTION:
URL:https://biblewayacademy.org/calendars/report-card-admin-3/
CATEGORIES:Important Dates
END:VEVENT
BEGIN:VEVENT
DTSTART;VALUE=DATE:20260610
DTEND;VALUE=DATE:20260611
DTSTAMP:20260422T064701
CREATED:20251031T191615Z
LAST-MODIFIED:20251031T191615Z
UID:11940-1781049600-1781135999@biblewayacademy.org
SUMMARY:Last Day of Classes
DESCRIPTION:
URL:https://biblewayacademy.org/calendars/last-day-of-classes-4/
CATEGORIES:Important Dates
END:VEVENT
BEGIN:VEVENT
DTSTART;VALUE=DATE:20260611
DTEND;VALUE=DATE:20260612
DTSTAMP:20260422T064701
CREATED:20251031T191825Z
LAST-MODIFIED:20251031T191839Z
UID:11942-1781136000-1781222399@biblewayacademy.org
SUMMARY:KG Grad & Gr 1-5 Awards Day
DESCRIPTION:
URL:https://biblewayacademy.org/calendars/kg-gr-1-5-awards-day/
CATEGORIES:Important Dates,Special Functions
END:VEVENT
BEGIN:VEVENT
DTSTART;VALUE=DATE:20260612
DTEND;VALUE=DATE:20260613
DTSTAMP:20260422T064701
CREATED:20251031T192100Z
LAST-MODIFIED:20251031T192100Z
UID:11944-1781222400-1781308799@biblewayacademy.org
SUMMARY:Final Reports Sent Home
DESCRIPTION:
URL:https://biblewayacademy.org/calendars/final-reports-sent-home/
CATEGORIES:Important Dates
END:VEVENT
BEGIN:VEVENT
DTSTART;VALUE=DATE:20260612
DTEND;VALUE=DATE:20260613
DTSTAMP:20260422T064701
CREATED:20251031T192153Z
LAST-MODIFIED:20251031T192153Z
UID:11943-1781222400-1781308799@biblewayacademy.org
SUMMARY:6-12 Awards Night & Graduation Ceremony
DESCRIPTION:
URL:https://biblewayacademy.org/calendars/6-12-awards-grad-ceremony/
CATEGORIES:Important Dates
END:VEVENT
END:VCALENDAR