BEGIN:VCALENDAR
VERSION:2.0
PRODID:-//Bibleway Christian Academy - ECPv6.6.4.2//NONSGML v1.0//EN
CALSCALE:GREGORIAN
METHOD:PUBLISH
X-WR-CALNAME:Bibleway Christian Academy
X-ORIGINAL-URL:https://biblewayacademy.org
X-WR-CALDESC:Events for Bibleway Christian Academy
REFRESH-INTERVAL;VALUE=DURATION:PT1H
X-Robots-Tag:noindex
X-PUBLISHED-TTL:PT1H
BEGIN:VTIMEZONE
TZID:America/Vancouver
BEGIN:DAYLIGHT
TZOFFSETFROM:-0800
TZOFFSETTO:-0700
TZNAME:PDT
DTSTART:20250309T100000
END:DAYLIGHT
BEGIN:STANDARD
TZOFFSETFROM:-0700
TZOFFSETTO:-0800
TZNAME:PST
DTSTART:20251102T090000
END:STANDARD
TZID:America/Los_Angeles
BEGIN:DAYLIGHT
TZOFFSETFROM:-0800
TZOFFSETTO:-0700
TZNAME:PDT
DTSTART:20230312T100000
END:DAYLIGHT
BEGIN:STANDARD
TZOFFSETFROM:-0700
TZOFFSETTO:-0800
TZNAME:PST
DTSTART:20231105T090000
END:STANDARD
BEGIN:DAYLIGHT
TZOFFSETFROM:-0800
TZOFFSETTO:-0700
TZNAME:PDT
DTSTART:20240310T100000
END:DAYLIGHT
BEGIN:STANDARD
TZOFFSETFROM:-0700
TZOFFSETTO:-0800
TZNAME:PST
DTSTART:20241103T090000
END:STANDARD
BEGIN:DAYLIGHT
TZOFFSETFROM:-0800
TZOFFSETTO:-0700
TZNAME:PDT
DTSTART:20250309T100000
END:DAYLIGHT
BEGIN:STANDARD
TZOFFSETFROM:-0700
TZOFFSETTO:-0800
TZNAME:PST
DTSTART:20251102T090000
END:STANDARD
END:VTIMEZONE
BEGIN:VEVENT
DTSTART;VALUE=DATE:20251216
DTEND;VALUE=DATE:20251217
DTSTAMP:20260422T094132
CREATED:20251031T175834Z
LAST-MODIFIED:20251031T175920Z
UID:11905-1765843200-1765929599@biblewayacademy.org
SUMMARY:Parent Teacher Interviews - No School
DESCRIPTION:
URL:https://biblewayacademy.org/calendars/parent-teacher-interviews-5/
LOCATION:BCA\, 18657 60 Ave\, Surrey\, British Columbia\, V3S 7P4\, Canada
CATEGORIES:Important Dates
END:VEVENT
BEGIN:VEVENT
DTSTART;VALUE=DATE:20251212
DTEND;VALUE=DATE:20251213
DTSTAMP:20260422T094132
CREATED:20251031T175732Z
LAST-MODIFIED:20251031T175732Z
UID:11904-1765497600-1765583999@biblewayacademy.org
SUMMARY:Christmas Concert
DESCRIPTION:
URL:https://biblewayacademy.org/calendars/christmas-concert-2025/
LOCATION:BCA\, 18657 60 Ave\, Surrey\, British Columbia\, V3S 7P4\, Canada
CATEGORIES:Important Dates
END:VEVENT
BEGIN:VEVENT
DTSTART;VALUE=DATE:20251212
DTEND;VALUE=DATE:20251213
DTSTAMP:20260422T094132
CREATED:20251031T175421Z
LAST-MODIFIED:20251031T175421Z
UID:11903-1765497600-1765583999@biblewayacademy.org
SUMMARY:Term 1 Report Cards Go Home
DESCRIPTION:
URL:https://biblewayacademy.org/calendars/term-1-report-cards-go-home/
LOCATION:British Columbia
CATEGORIES:Important Dates
END:VEVENT
BEGIN:VEVENT
DTSTART;TZID=America/Vancouver:20251211T130000
DTEND;TZID=America/Vancouver:20251211T143000
DTSTAMP:20260422T094132
CREATED:20251031T175125Z
LAST-MODIFIED:20251031T175125Z
UID:11902-1765458000-1765463400@biblewayacademy.org
SUMMARY:Christmas Concert Prep
DESCRIPTION:
URL:https://biblewayacademy.org/calendars/christmas-concert-prep-3/
LOCATION:British Columbia
CATEGORIES:Important Dates
END:VEVENT
BEGIN:VEVENT
DTSTART;VALUE=DATE:20251201
DTEND;VALUE=DATE:20251206
DTSTAMP:20260422T094132
CREATED:20251031T174750Z
LAST-MODIFIED:20251031T174824Z
UID:11899-1764547200-1764979199@biblewayacademy.org
SUMMARY:Term Testing Period
DESCRIPTION:
URL:https://biblewayacademy.org/calendars/term-testing-period/
LOCATION:British Columbia
CATEGORIES:Important Dates
END:VEVENT
BEGIN:VEVENT
DTSTART;TZID=America/Los_Angeles:20251104T080000
DTEND;TZID=America/Los_Angeles:20251104T170000
DTSTAMP:20260422T094132
CREATED:20251031T161744Z
LAST-MODIFIED:20251031T161744Z
UID:11891-1762243200-1762275600@biblewayacademy.org
SUMMARY:Photo Re-takes
DESCRIPTION:
URL:https://biblewayacademy.org/calendars/photo-re-takes-2/
LOCATION:BCA\, 18657 60 Ave\, Surrey\, British Columbia\, V3S 7P4\, Canada
CATEGORIES:Important Dates
END:VEVENT
BEGIN:VEVENT
DTSTART;TZID=America/Los_Angeles:20250331T080000
DTEND;TZID=America/Los_Angeles:20250331T170000
DTSTAMP:20260422T094132
CREATED:20240819T154851Z
LAST-MODIFIED:20240819T154851Z
UID:11807-1743408000-1743440400@biblewayacademy.org
SUMMARY:School Resumes
DESCRIPTION:
URL:https://biblewayacademy.org/calendars/school-resumes-8/
LOCATION:British Columbia
CATEGORIES:Important Dates
END:VEVENT
BEGIN:VEVENT
DTSTART;TZID=America/Los_Angeles:20250106T080000
DTEND;TZID=America/Los_Angeles:20250106T170000
DTSTAMP:20260422T094132
CREATED:20240819T154241Z
LAST-MODIFIED:20240819T154241Z
UID:11795-1736150400-1736182800@biblewayacademy.org
SUMMARY:School Resumes
DESCRIPTION:
URL:https://biblewayacademy.org/calendars/school-resumes-7/
LOCATION:British Columbia
CATEGORIES:Important Dates
END:VEVENT
BEGIN:VEVENT
DTSTART;TZID=America/Los_Angeles:20241217T080000
DTEND;TZID=America/Los_Angeles:20241217T170000
DTSTAMP:20260422T094132
CREATED:20240819T154056Z
LAST-MODIFIED:20240819T154056Z
UID:11792-1734422400-1734454800@biblewayacademy.org
SUMMARY:Parent Teacher Interviews
DESCRIPTION:Noon Dismissal
URL:https://biblewayacademy.org/calendars/parent-teacher-interviews-4/
LOCATION:British Columbia
CATEGORIES:Important Dates
END:VEVENT
BEGIN:VEVENT
DTSTART;TZID=America/Los_Angeles:20241105T080000
DTEND;TZID=America/Los_Angeles:20241105T170000
DTSTAMP:20260422T094132
CREATED:20240819T153438Z
LAST-MODIFIED:20240819T153438Z
UID:11784-1730793600-1730826000@biblewayacademy.org
SUMMARY:Photo Re-Takes
DESCRIPTION:
URL:https://biblewayacademy.org/calendars/photo-re-takes/
LOCATION:British Columbia
CATEGORIES:Important Dates
END:VEVENT
BEGIN:VEVENT
DTSTART;TZID=America/Los_Angeles:20240926T080000
DTEND;TZID=America/Los_Angeles:20240926T170000
DTSTAMP:20260422T094132
CREATED:20240819T152955Z
LAST-MODIFIED:20240819T152955Z
UID:11777-1727337600-1727370000@biblewayacademy.org
SUMMARY:Terry Fox Run
DESCRIPTION:
URL:https://biblewayacademy.org/calendars/terry-fox-run-4/
LOCATION:British Columbia
CATEGORIES:Important Dates
END:VEVENT
BEGIN:VEVENT
DTSTART;TZID=America/Los_Angeles:20240613T080000
DTEND;TZID=America/Los_Angeles:20240613T170000
DTSTAMP:20260422T094132
CREATED:20230818T162758Z
LAST-MODIFIED:20230818T162758Z
UID:11698-1718265600-1718298000@biblewayacademy.org
SUMMARY:Report cards sent home
DESCRIPTION:Final report cards for school year sent home.
URL:https://biblewayacademy.org/calendars/report-cards-sent-home/
LOCATION:British Columbia
CATEGORIES:Important Dates
END:VEVENT
BEGIN:VEVENT
DTSTART;TZID=America/Los_Angeles:20240612T080000
DTEND;TZID=America/Los_Angeles:20240612T170000
DTSTAMP:20260422T094132
CREATED:20230818T162711Z
LAST-MODIFIED:20230818T162711Z
UID:11697-1718179200-1718211600@biblewayacademy.org
SUMMARY:Last full day of classes.
DESCRIPTION:Last full day of classes for all students.
URL:https://biblewayacademy.org/calendars/last-full-day-of-classes/
LOCATION:British Columbia
CATEGORIES:Important Dates
END:VEVENT
BEGIN:VEVENT
DTSTART;TZID=America/Los_Angeles:20240606T080000
DTEND;TZID=America/Los_Angeles:20240606T170000
DTSTAMP:20260422T094132
CREATED:20230818T162551Z
LAST-MODIFIED:20230818T162551Z
UID:11695-1717660800-1717693200@biblewayacademy.org
SUMMARY:Final Family Assembly
DESCRIPTION:Last family assembly. Starts at 8:30am. All welcome to attend.
URL:https://biblewayacademy.org/calendars/final-family-assembly/
LOCATION:British Columbia
CATEGORIES:Important Dates
END:VEVENT
BEGIN:VEVENT
DTSTART;TZID=America/Los_Angeles:20240503T080000
DTEND;TZID=America/Los_Angeles:20240503T170000
DTSTAMP:20260422T094132
CREATED:20230818T161852Z
LAST-MODIFIED:20230818T161852Z
UID:11687-1714723200-1714755600@biblewayacademy.org
SUMMARY:Family Assembly
DESCRIPTION:Family assembly at 8:30am in BCA devotion room. All welcome.
URL:https://biblewayacademy.org/calendars/family-assembly-27/
LOCATION:British Columbia
CATEGORIES:Important Dates
END:VEVENT
BEGIN:VEVENT
DTSTART;TZID=America/Los_Angeles:20240415T080000
DTEND;TZID=America/Los_Angeles:20240418T170000
DTSTAMP:20260422T094132
CREATED:20230818T161722Z
LAST-MODIFIED:20240408T174750Z
UID:11685-1713168000-1713459600@biblewayacademy.org
SUMMARY:Literacy & Numeracy Assessments
DESCRIPTION:
URL:https://biblewayacademy.org/calendars/literacy-numeracy-assessments-2/
LOCATION:British Columbia
CATEGORIES:Important Dates
END:VEVENT
BEGIN:VEVENT
DTSTART;TZID=America/Los_Angeles:20240405T080000
DTEND;TZID=America/Los_Angeles:20240405T170000
DTSTAMP:20260422T094132
CREATED:20230818T161607Z
LAST-MODIFIED:20230818T161607Z
UID:11683-1712304000-1712336400@biblewayacademy.org
SUMMARY:Family Assembly
DESCRIPTION:Family assembly at 8:30am in BCA devotion room. All welcome!
URL:https://biblewayacademy.org/calendars/family-assembly-26/
LOCATION:British Columbia
CATEGORIES:Important Dates
END:VEVENT
BEGIN:VEVENT
DTSTART;TZID=America/Los_Angeles:20240402T080000
DTEND;TZID=America/Los_Angeles:20240402T170000
DTSTAMP:20260422T094132
CREATED:20230818T161523Z
LAST-MODIFIED:20230818T161523Z
UID:11682-1712044800-1712077200@biblewayacademy.org
SUMMARY:School Resumes
DESCRIPTION:School resumes for all students.
URL:https://biblewayacademy.org/calendars/school-resumes-6/
LOCATION:British Columbia
CATEGORIES:Important Dates
END:VEVENT
BEGIN:VEVENT
DTSTART;TZID=America/Los_Angeles:20240301T080000
DTEND;TZID=America/Los_Angeles:20240301T170000
DTSTAMP:20260422T094132
CREATED:20230818T161134Z
LAST-MODIFIED:20230818T161134Z
UID:11677-1709280000-1709312400@biblewayacademy.org
SUMMARY:Family Assembly
DESCRIPTION:Family assembly at 8:30am in the BCA devotion room. All welcome to attend.
URL:https://biblewayacademy.org/calendars/family-assembly-25/
LOCATION:British Columbia
CATEGORIES:Important Dates
END:VEVENT
BEGIN:VEVENT
DTSTART;TZID=America/Los_Angeles:20240202T080000
DTEND;TZID=America/Los_Angeles:20240202T170000
DTSTAMP:20260422T094132
CREATED:20230818T160801Z
LAST-MODIFIED:20230818T160801Z
UID:11673-1706860800-1706893200@biblewayacademy.org
SUMMARY:Family Assembly
DESCRIPTION:Family assembly at 8:30am in BCA devotion room. All welcome!
URL:https://biblewayacademy.org/calendars/family-assembly-24/
LOCATION:British Columbia
CATEGORIES:Important Dates
END:VEVENT
BEGIN:VEVENT
DTSTART;TZID=America/Los_Angeles:20240112T080000
DTEND;TZID=America/Los_Angeles:20240112T170000
DTSTAMP:20260422T094132
CREATED:20230818T160500Z
LAST-MODIFIED:20230818T160500Z
UID:11671-1705046400-1705078800@biblewayacademy.org
SUMMARY:Family Assembly
DESCRIPTION:Family assembly at 8:30am in the BCA Devotion Room. All welcome!
URL:https://biblewayacademy.org/calendars/family-assembly-23/
LOCATION:British Columbia
CATEGORIES:Important Dates
END:VEVENT
BEGIN:VEVENT
DTSTART;TZID=America/Los_Angeles:20240108T080000
DTEND;TZID=America/Los_Angeles:20240108T170000
DTSTAMP:20260422T094132
CREATED:20230818T160359Z
LAST-MODIFIED:20230818T160359Z
UID:11670-1704700800-1704733200@biblewayacademy.org
SUMMARY:School Resumes
DESCRIPTION:School resumes for all students.
URL:https://biblewayacademy.org/calendars/school-resumes-5/
LOCATION:British Columbia
CATEGORIES:Important Dates
END:VEVENT
BEGIN:VEVENT
DTSTART;TZID=America/Los_Angeles:20231222T080000
DTEND;TZID=America/Los_Angeles:20231222T170000
DTSTAMP:20260422T094132
CREATED:20230818T160106Z
LAST-MODIFIED:20230818T160106Z
UID:11668-1703232000-1703264400@biblewayacademy.org
SUMMARY:School Wide Activity Day
DESCRIPTION:BCA School wide activity day.
URL:https://biblewayacademy.org/calendars/school-wide-activity-day-2/
LOCATION:British Columbia
CATEGORIES:Important Dates
END:VEVENT
BEGIN:VEVENT
DTSTART;TZID=America/Los_Angeles:20231217T080000
DTEND;TZID=America/Los_Angeles:20231217T170000
DTSTAMP:20260422T094132
CREATED:20230818T155646Z
LAST-MODIFIED:20231127T181232Z
UID:11665-1702800000-1702832400@biblewayacademy.org
SUMMARY:Parent Teacher Interviews
DESCRIPTION:Parent teacher interviews all day. Non school day for students.
URL:https://biblewayacademy.org/calendars/parent-teacher-interviews-3/
LOCATION:British Columbia
CATEGORIES:Important Dates
END:VEVENT
BEGIN:VEVENT
DTSTART;TZID=America/Los_Angeles:20231215T080000
DTEND;TZID=America/Los_Angeles:20231215T170000
DTSTAMP:20260422T094132
CREATED:20230818T155556Z
LAST-MODIFIED:20231127T181154Z
UID:11664-1702627200-1702659600@biblewayacademy.org
SUMMARY:Term 1 Report Cards
DESCRIPTION:Term 1 report cards sent home.
URL:https://biblewayacademy.org/calendars/term-1-report-cards-2/
LOCATION:British Columbia
CATEGORIES:Important Dates
END:VEVENT
BEGIN:VEVENT
DTSTART;TZID=America/Los_Angeles:20231213T080000
DTEND;TZID=America/Los_Angeles:20231213T170000
DTSTAMP:20260422T094132
CREATED:20230818T155736Z
LAST-MODIFIED:20231127T181108Z
UID:11666-1702454400-1702486800@biblewayacademy.org
SUMMARY:Christmas Concert Prep Day
DESCRIPTION:Preparations for the Christmas Concert underway.
URL:https://biblewayacademy.org/calendars/christmas-concert-prep-day/
LOCATION:British Columbia
CATEGORIES:Important Dates
END:VEVENT
BEGIN:VEVENT
DTSTART;TZID=America/Los_Angeles:20231201T080000
DTEND;TZID=America/Los_Angeles:20231201T170000
DTSTAMP:20260422T094132
CREATED:20230818T155514Z
LAST-MODIFIED:20230818T155514Z
UID:11663-1701417600-1701450000@biblewayacademy.org
SUMMARY:Family Assembly
DESCRIPTION:Family assembly at 8:30am in the devotion room. All welcome!
URL:https://biblewayacademy.org/calendars/family-assembly-22/
LOCATION:British Columbia
CATEGORIES:Important Dates
END:VEVENT
BEGIN:VEVENT
DTSTART;TZID=America/Los_Angeles:20231103T080000
DTEND;TZID=America/Los_Angeles:20231103T170000
DTSTAMP:20260422T094132
CREATED:20230818T154936Z
LAST-MODIFIED:20230818T154936Z
UID:11656-1698998400-1699030800@biblewayacademy.org
SUMMARY:Family Assembly
DESCRIPTION:Family assembly at 8:30am in the devotion room. All welcome!
URL:https://biblewayacademy.org/calendars/family-assembly-21/
LOCATION:British Columbia
CATEGORIES:Important Dates
END:VEVENT
BEGIN:VEVENT
DTSTART;TZID=America/Los_Angeles:20231102T080000
DTEND;TZID=America/Los_Angeles:20231102T170000
DTSTAMP:20260422T094132
CREATED:20230818T155011Z
LAST-MODIFIED:20230818T155011Z
UID:11657-1698912000-1698944400@biblewayacademy.org
SUMMARY:Picture Retakes
DESCRIPTION:School photo retakes.
URL:https://biblewayacademy.org/calendars/picture-retakes/
LOCATION:British Columbia
CATEGORIES:Important Dates
END:VEVENT
BEGIN:VEVENT
DTSTART;TZID=America/Los_Angeles:20231011T080000
DTEND;TZID=America/Los_Angeles:20231011T170000
DTSTAMP:20260422T094132
CREATED:20230818T154654Z
LAST-MODIFIED:20230818T154836Z
UID:11653-1697011200-1697043600@biblewayacademy.org
SUMMARY:School Picture Day
DESCRIPTION:Picture day at BCA – Formal Uniform only.
URL:https://biblewayacademy.org/calendars/school-picture-day/
LOCATION:British Columbia
CATEGORIES:Important Dates
ATTACH;FMTTYPE=image/jpeg:https://biblewayacademy.org/wp-content/uploads/2022/06/picture_day-1.jpg
END:VEVENT
END:VCALENDAR